BEGIN:VCALENDAR
VERSION:2.0
PRODID:-//wp-events-plugin.com//7.1.7//EN
BEGIN:VEVENT
UID:564@stockportamateurtheatres.co.uk
DTSTART:20250122T193000Z
DTEND:20250125T220000Z
DTSTAMP:20240919T151147Z
URL:http://www.stockportamateurtheatres.co.uk/events/agnes-of-god/
SUMMARY:Agnes of God
DESCRIPTION:In this taut\, compelling three-character drama\, a court-appoi
 nted psychiatrist must assess the sanity of a novice accused of murdering 
 her newborn. \n\n\nTickets- https://newmillschurch.co.uk/martyrsplayers
CATEGORIES:Play
LOCATION:St Georges Parish Hall\, Church Lane\, New Mills\, Stockport\, SK2
 2 4NP\, United Kingdom
X-APPLE-STRUCTURED-LOCATION;VALUE=URI;X-ADDRESS=Church Lane\, New Mills\, S
 tockport\, SK22 4NP\, United Kingdom;X-APPLE-RADIUS=100;X-TITLE=St Georges
  Parish Hall:geo:0,0
END:VEVENT
END:VCALENDAR