BEGIN:VCALENDAR
VERSION:2.0
PRODID:-//wp-events-plugin.com//7.1.7//EN
BEGIN:VEVENT
UID:548@stockportamateurtheatres.co.uk
DTSTART:20241112T193000Z
DTEND:20241116T220000Z
DTSTAMP:20240416T120608Z
URL:http://www.stockportamateurtheatres.co.uk/events/blackbird-2/
SUMMARY:Blackbird
DESCRIPTION:\n\n\n\nBlackbird\n\nby David Harrower\n12 – 16 November 2024
 \n\n\n\n\n\nA difficult and challenging play about Ray\, a man in his 50s\
 , and Una a young woman who tracks him down.  Fifteen years earlier they 
 had a sexual relationship when Una was only 12 years old.  Ray went to pr
 ison but has tried to start his life again with a new name and new job.  
 Una wants – what? Perhaps not revenge\, perhaps she seeks an understandi
 ng but is that possible and at what further cost?\nThis production will be
  performed in the studio on the first floor\, which is accessed by a fligh
 t of stairs.\n\n\n\n\n\n\n\n\n\n\n\n\nThis amateur production of “Blackb
 ird” is presented by arrangement with Concord Theatricals Ltd. on behalf
  of Samuel French Ltd. www.concordtheatricals.co.uk\n\nTickets\n\n\n\n\n- 
 http://www.chads.co.uk
CATEGORIES:Play
LOCATION:Chads Theatre\, Mellor Road\, Cheadle Hulme\, Stockport\, Cheshire
 \, SK8 5AU\, North West\, United Kingdom
GEO:53.374851;-2.188829
X-APPLE-STRUCTURED-LOCATION;VALUE=URI;X-ADDRESS=Mellor Road\, Cheadle Hulme
 \, Stockport\, Cheshire\, SK8 5AU\, North West\, United Kingdom;X-APPLE-RA
 DIUS=100;X-TITLE=Chads Theatre:geo:53.374851,-2.188829
END:VEVENT
END:VCALENDAR