BEGIN:VCALENDAR
VERSION:2.0
PRODID:-//wp-events-plugin.com//7.1.7//EN
BEGIN:VEVENT
UID:558@stockportamateurtheatres.co.uk
DTSTART:20250120T194500Z
DTEND:20250125T220000Z
DTSTAMP:20240416T175855Z
URL:http://www.stockportamateurtheatres.co.uk/events/bombshells/
SUMMARY:Bombshells
DESCRIPTION:Bombshells by Joanna Murray-Smith\n20 to 25 January 2025\n\n\nE
 venings at 7:45pm.\n2:30pm matinee on Saturday 25 January.\nSix funny and 
 perceptive monologues about the stresses of modern female life.\n\nMeryl
 – A mother who tells the story of her non-stop day in a rapid-fire inter
 nal monologue.\n\nTiggy – A cactus lover bravely attempting to rise abov
 e her relationship crisis.\n\nMary – A feisty teenage schoolgirl competi
 ng in a talent quest.\n\nTheresa – An increasingly disillusioned bride o
 n her wedding day.\n\nWinsome – A widow with an appetite for the unexpec
 ted.\n\nZoe – An American cabaret singer who’s had her fair share of p
 ersonal problems.\n\n\n- https://greenroomwilmslow.org.uk/
CATEGORIES:Play
LOCATION:The Green Room Theatre Wilmslow\, Chapel Lane\, Wilmslow\, Cheshir
 e\, SK9 5JH\, North West\, United Kingdom
GEO:53.322514;-2.241101
X-APPLE-STRUCTURED-LOCATION;VALUE=URI;X-ADDRESS=Chapel Lane\, Wilmslow\, Ch
 eshire\, SK9 5JH\, North West\, United Kingdom;X-APPLE-RADIUS=100;X-TITLE=
 The Green Room Theatre Wilmslow:geo:53.322514,-2.241101
END:VEVENT
END:VCALENDAR