BEGIN:VCALENDAR
VERSION:2.0
PRODID:-//wp-events-plugin.com//7.1.7//EN
BEGIN:VEVENT
UID:554@stockportamateurtheatres.co.uk
DTSTART:20250102T190000Z
DTEND:20250105T220000Z
DTSTAMP:20240416T125138Z
URL:http://www.stockportamateurtheatres.co.uk/events/cinderella/
SUMMARY:Cinderella
DESCRIPTION:Chyps fabulous annual pantomime.- http://www.chypspanto.com
CATEGORIES:Pantomime
LOCATION:The Evans Theatre Wilmslow\, Station Road\, Wilmslow\, Cheshire\, 
 SK9 1BU\, North West\, United Kingdom
GEO:53.3266782;-2.227645700000039
X-APPLE-STRUCTURED-LOCATION;VALUE=URI;X-ADDRESS=Station Road\, Wilmslow\, C
 heshire\, SK9 1BU\, North West\, United Kingdom;X-APPLE-RADIUS=100;X-TITLE
 =The Evans Theatre Wilmslow:geo:53.3266782,-2.227645700000039
END:VEVENT
END:VCALENDAR