BEGIN:VCALENDAR
VERSION:2.0
PRODID:-//wp-events-plugin.com//7.1.7//EN
BEGIN:VEVENT
UID:549@stockportamateurtheatres.co.uk
DTSTART:20241207T193000Z
DTEND:20241214T220000Z
DTSTAMP:20240416T120626Z
URL:http://www.stockportamateurtheatres.co.uk/events/dont-dress-for-dinner
 /
SUMMARY:Don't dress For Dinner
DESCRIPTION:\n\n\n\nDon’t Dress for Dinner\n\nby Marc Camoletti and Robin
  Hawdon\n7 – 14 December 2024\n\n\n\n\n\nOoh La La!  This is an hilario
 us French farce from the early 1990s that tells the tale of Bernard who in
 vites his chic Parisian mistress\, Suzanne (Suzy for short) to spend the w
 eekend with him at the country house that he owns with his wife Jacqueline
 \, because Jacqueline is going to her mother’s.  As an alibi Bernard al
 so invites his best friend\, Robert\, and he also arranges for a cordon bl
 eu cook to come along to provide haute cuisine for them all.  However\, B
 ernard isn’t the only one having an affair and when Jacquline decides no
 t to visit her mother and the catering agency send their cook Suzette (Suz
 y for short) the stage is set for multiple mistaken identities and confusi
 on which Bernard and Robert must navigate with all the ingenuity they can 
 muster.\n\n\n\n\n\n\nThis amateur production of “Don’t Dress for Dinne
 r” is presented by arrangement with Concord Theatricals Ltd. on behalf o
 f Samuel French Ltd. www.concordtheatricals.co.uk\n\nTickets\n\n\n\n\n- ht
 tp://www.chads.co.uk
CATEGORIES:Play
LOCATION:Chads Theatre\, Mellor Road\, Cheadle Hulme\, Stockport\, Cheshire
 \, SK8 5AU\, North West\, United Kingdom
GEO:53.374851;-2.188829
X-APPLE-STRUCTURED-LOCATION;VALUE=URI;X-ADDRESS=Mellor Road\, Cheadle Hulme
 \, Stockport\, Cheshire\, SK8 5AU\, North West\, United Kingdom;X-APPLE-RA
 DIUS=100;X-TITLE=Chads Theatre:geo:53.374851,-2.188829
END:VEVENT
END:VCALENDAR