BEGIN:VCALENDAR
VERSION:2.0
PRODID:-//wp-events-plugin.com//7.1.7//EN
BEGIN:VEVENT
UID:559@stockportamateurtheatres.co.uk
DTSTART:20240930T193000Z
DTEND:20241005T220000Z
DTSTAMP:20240919T150009Z
URL:http://www.stockportamateurtheatres.co.uk/events/dracula-the-bloody-tr
 uth/
SUMMARY:Dracula\, The Bloody Truth
DESCRIPTION:Van Helsing and his three amateur actors stage a life-changing\
 , theatrical production of Dracula - hoping to establish\, once and for al
 l\, the bloody Truth of what really happened.\n\nA delightfully silly\, fa
 st-paced adaptation of the classic story.\nPlease note the Saturday perfor
 mance is a 2.30pm Matinee.\n\nThis amateur production of 'Dracula: The Blo
 ody Truth' is presented by arrangement with Nick Hern Books.- http://www.p
 layersdramatic.co.uk
CATEGORIES:Play
LOCATION:Players Theatre\, Anfield Road\, Cheadle Hulme\, Stockport\, Chesh
 ire\, SK8 5EX\, North West\, United Kingdom
GEO:53.3797897;-2.1977273999999625
X-APPLE-STRUCTURED-LOCATION;VALUE=URI;X-ADDRESS=Anfield Road\, Cheadle Hulm
 e\, Stockport\, Cheshire\, SK8 5EX\, North West\, United Kingdom;X-APPLE-R
 ADIUS=100;X-TITLE=Players Theatre:geo:53.3797897,-2.1977273999999625
END:VEVENT
END:VCALENDAR