BEGIN:VCALENDAR
VERSION:2.0
PRODID:-//wp-events-plugin.com//7.1.7//EN
BEGIN:VEVENT
UID:563@stockportamateurtheatres.co.uk
DTSTART:20240918T193000Z
DTEND:20240921T220000Z
DTSTAMP:20240919T151120Z
URL:http://www.stockportamateurtheatres.co.uk/events/every-brilliant-thing
 /
SUMMARY:Every Brilliant Thing
DESCRIPTION:"Every Brilliant Thing" by Duncan Macmillan is a heartwarming a
 nd poignant one-person play that explores themes of mental health\, depres
 sion\, and the power of human connection. The story follows a narrator who
 \, as a young child\, begins compiling a list of everything worth living f
 or to cheer up their mother who is battling depression. The list includes 
 simple joys like "ice cream" and "staying up past your bedtime." As the na
 rrator grows up\, the list evolves and becomes a tool for coping with life
 's challenges. Through a blend of humour and profound insight\, the play i
 nvites the audience to reflect on the small pleasures that make life beaut
 iful and the importance of hope and resilience.\n\nTickets- https://newmil
 lschurch.co.uk/martyrsplayers
CATEGORIES:Play
LOCATION:St Georges Parish Hall\, Church Lane\, New Mills\, Stockport\, SK2
 2 4NP\, United Kingdom
X-APPLE-STRUCTURED-LOCATION;VALUE=URI;X-ADDRESS=Church Lane\, New Mills\, S
 tockport\, SK22 4NP\, United Kingdom;X-APPLE-RADIUS=100;X-TITLE=St Georges
  Parish Hall:geo:0,0
END:VEVENT
END:VCALENDAR