BEGIN:VCALENDAR
VERSION:2.0
PRODID:-//wp-events-plugin.com//7.1.7//EN
BEGIN:VEVENT
UID:560@stockportamateurtheatres.co.uk
DTSTART:20241125T193000Z
DTEND:20241130T220000Z
DTSTAMP:20240919T150033Z
URL:http://www.stockportamateurtheatres.co.uk/events/home-im-darling/
SUMMARY:Home\, I'm Darling
DESCRIPTION:\n\nEvery marriage needs a little fantasy to keep it sparkling.
  But behind the gingham curtains\, being a domestic goddess isn't as easy 
 as it looks for Judy.\n\nA new comedy about cake\, relationships\, and the
  quest to be the perfect 1950's housewife.\n\nThis amateur production of '
 Home\, I'm Darling' is presented by arrangement with Samuel French Ltd on 
 behalf of Concord Theatricals www.concordtheatricals.co.uk\n\nTickets\n\n-
  http://www.playersdramatic.co.uk
CATEGORIES:Play
LOCATION:Players Theatre\, Anfield Road\, Cheadle Hulme\, Stockport\, Chesh
 ire\, SK8 5EX\, North West\, United Kingdom
GEO:53.3797897;-2.1977273999999625
X-APPLE-STRUCTURED-LOCATION;VALUE=URI;X-ADDRESS=Anfield Road\, Cheadle Hulm
 e\, Stockport\, Cheshire\, SK8 5EX\, North West\, United Kingdom;X-APPLE-R
 ADIUS=100;X-TITLE=Players Theatre:geo:53.3797897,-2.1977273999999625
END:VEVENT
END:VCALENDAR