BEGIN:VCALENDAR
VERSION:2.0
PRODID:-//wp-events-plugin.com//7.1.7//EN
BEGIN:VEVENT
UID:551@stockportamateurtheatres.co.uk
DTSTART:20250225T000000Z
DTEND:20250301T000000Z
DTSTAMP:20240416T120705Z
URL:http://www.stockportamateurtheatres.co.uk/events/murder-margaret-and-m
 e/
SUMMARY:Murder\, Margaret and Me
DESCRIPTION:\n\n\n\nMurder\, Margaret and Me\n\nby Philip Meeks\n25 Februar
 y – 1 March 2025\n\n\n\n\n\nMargaret Rutherford and Agatha Christie: two
  national treasures behind one of the British film industry’s greatest f
 ranchises. Rutherford is famed for bringing Christie’s beloved spinster\
 , Miss Marple\, to the screen. However\, it almost didn’t happen because
  Agatha Christie did not approve of Rutherford as Marple\, and Margaret Ru
 therford had no interest in being involved with anything so sordid as murd
 er. Murder\, Margaret and Me is the story of an unlikely friendship betwee
 n “the funniest woman alive” and the world-renowned “Queen of Crime
 ”. Christie then turns detective herself\, to uncover Rutherford’s sho
 cking and tragic secret.\nThis production will be performed in the studio 
 on the first floor\, which is accessed by a flight of stairs.\n\n\n\n\n\nT
 his amateur production of “Murder\, Margaret and Me” is presented by a
 rrangement with Concord Theatricals Ltd. on behalf of Samuel French Ltd. w
 ww.concordtheatricals.co.uk\n\nTickets\n\n\n\n\n- http://www.chads.co.uk
CATEGORIES:Play
LOCATION:Chads Theatre\, Mellor Road\, Cheadle Hulme\, Stockport\, Cheshire
 \, SK8 5AU\, North West\, United Kingdom
GEO:53.374851;-2.188829
X-APPLE-STRUCTURED-LOCATION;VALUE=URI;X-ADDRESS=Mellor Road\, Cheadle Hulme
 \, Stockport\, Cheshire\, SK8 5AU\, North West\, United Kingdom;X-APPLE-RA
 DIUS=100;X-TITLE=Chads Theatre:geo:53.374851,-2.188829
END:VEVENT
END:VCALENDAR