BEGIN:VCALENDAR
VERSION:2.0
PRODID:-//wp-events-plugin.com//7.1.7//EN
BEGIN:VEVENT
UID:546@stockportamateurtheatres.co.uk
DTSTART:20240907T193000Z
DTEND:20240914T220000Z
DTSTAMP:20240416T120515Z
URL:http://www.stockportamateurtheatres.co.uk/events/pack-of-lies/
SUMMARY:Pack of Lies
DESCRIPTION:\n\n\n\nPack of Lies\n\nby Hugh Whitemore\n7 – 14 September 2
 024\n\n\n\n\n\nPack of Lies is based on a true story.  An apparently ordi
 nary Canadian couple\, Peter and Helen Kroger\, living in the suburbs of L
 ondon\, are exposed by MI5 as Russian spies. The plot centres on the Jacks
 on family\, Bob and Barbara\, and their teenage daughter Julie\, who live 
 in a house directly opposite the Krogers.  The couples have become great 
 friends since the Krogers arrived but then out of the blue the Jacksons ar
 e visited by MI5 who use their home for the surveillance of the Krogers ho
 use.  Gradually the full extent of the betrayal by the Krogers is reveale
 d but the presence of MI5 and the realisation of the Krogers true purposes
  place great strain upon the Jacksons\, whose lives are never the same aga
 in.\n\n\n\n\n\nThis amateur production of “Pack of Lies” is presented 
 by arrangement with Concord Theatricals Ltd. on behalf of Samuel French Lt
 d. www.concordtheatricals.co.uk\n\nTickets\n\n\n\n- http://www.chads.co.uk
CATEGORIES:Play
LOCATION:Chads Theatre\, Mellor Road\, Cheadle Hulme\, Stockport\, Cheshire
 \, SK8 5AU\, North West\, United Kingdom
GEO:53.374851;-2.188829
X-APPLE-STRUCTURED-LOCATION;VALUE=URI;X-ADDRESS=Mellor Road\, Cheadle Hulme
 \, Stockport\, Cheshire\, SK8 5AU\, North West\, United Kingdom;X-APPLE-RA
 DIUS=100;X-TITLE=Chads Theatre:geo:53.374851,-2.188829
END:VEVENT
END:VCALENDAR