BEGIN:VCALENDAR
VERSION:2.0
PRODID:-//wp-events-plugin.com//7.1.7//EN
BEGIN:VEVENT
UID:553@stockportamateurtheatres.co.uk
DTSTART:20250517T193000Z
DTEND:20250524T220000Z
DTSTAMP:20240416T120840Z
URL:http://www.stockportamateurtheatres.co.uk/events/sense-and-sensibility
 /
SUMMARY:Sense and Sensibility
DESCRIPTION:\n\n\n\nSense and Sensibility\n\nby Jane Austen\, adapted by Je
 ssica Swale\n17 – 24 May 2025\n\n\n\n\n\nJane Austen’s classic romanti
 c comedy dates from the Regency period (early 19th century) and centres on
  Elinor\, Marianne and Margaret\, daughters of Mrs Dashwood\, who are forc
 ed after the death of their father to leave their comfortable Sussex home 
 because it is to pass to their only male relative\, John Dashwood\, and hi
 s snobbish wife Fanny. They move to a cottage in Devon owned by their weal
 thy cousin Sir John\, who lives nearby with his good-natured\, talkative m
 other-in-law\, Mrs Jennings. Marianne falls in love with the dashing Willo
 ughby\, ignoring the attentions of Sir John’s more modest friend\, Colon
 el Brandon. Elinor hoped she was winning the affections of Edward Ferrars\
 , Fanny’s brother\, whilst she was in Sussex\, but finds her future happ
 iness under threat from Fanny’s determination he should marry into a ric
 h family. Poor Elinor suffers further heartbreak when she later learns tha
 t he is apparently already secretly engaged to Mrs Jennings’s niece\, Lu
 cy Steele.\n\n\n\n\n\n\nThis amateur production of “Sense and Sensibilit
 y” is presented by arrangement with Concord Theatricals Ltd. on behalf o
 f Samuel French Ltd. www.concordtheatricals.co.uk\n\nTickets\n\n\n\n\n- ht
 tp://www.chads.co.uk
CATEGORIES:Play
LOCATION:Chads Theatre\, Mellor Road\, Cheadle Hulme\, Stockport\, Cheshire
 \, SK8 5AU\, North West\, United Kingdom
GEO:53.374851;-2.188829
X-APPLE-STRUCTURED-LOCATION;VALUE=URI;X-ADDRESS=Mellor Road\, Cheadle Hulme
 \, Stockport\, Cheshire\, SK8 5AU\, North West\, United Kingdom;X-APPLE-RA
 DIUS=100;X-TITLE=Chads Theatre:geo:53.374851,-2.188829
END:VEVENT
END:VCALENDAR