BEGIN:VCALENDAR
VERSION:2.0
PRODID:-//wp-events-plugin.com//7.1.7//EN
BEGIN:VEVENT
UID:552@stockportamateurtheatres.co.uk
DTSTART:20250322T193000Z
DTEND:20250329T220000Z
DTSTAMP:20240416T120722Z
URL:http://www.stockportamateurtheatres.co.uk/events/the-father/
SUMMARY:The Father
DESCRIPTION:\n\n\n\nThe Father\n\nby Florian Zeller\n22 – 29 March 2025\n
 \n\n\n\n\n‘The Father’ is a darkly humorous and deeply poignant portra
 it of an elderly man with dementia (Andre)\, gradually losing his memory\,
  and the efforts of his daughter (Anne) to balance her love for her father
  and the need to care for him with the demands of her own life and relatio
 nship with her partner (Pierre). The play sees things as if through the co
 nfused eyes of Andre\, as he struggles to make sense of a progressively be
 fuddling world. The audience can never be sure whether Andre lives in his 
 own flat or not\, nor what his relationships are with those around him. It
  is very powerful!\n\n\n\n\n\n\nThis amateur production of “The Father
 ” is presented by arrangement with Concord Theatricals Ltd. on behalf of
  Samuel French Ltd. www.concordtheatricals.co.uk\n\nTickets\n\n\n\n\n- htt
 p://www.chads.co.uk
CATEGORIES:Play
LOCATION:Chads Theatre\, Mellor Road\, Cheadle Hulme\, Stockport\, Cheshire
 \, SK8 5AU\, North West\, United Kingdom
GEO:53.374851;-2.188829
X-APPLE-STRUCTURED-LOCATION;VALUE=URI;X-ADDRESS=Mellor Road\, Cheadle Hulme
 \, Stockport\, Cheshire\, SK8 5AU\, North West\, United Kingdom;X-APPLE-RA
 DIUS=100;X-TITLE=Chads Theatre:geo:53.374851,-2.188829
END:VEVENT
END:VCALENDAR