BEGIN:VCALENDAR
VERSION:2.0
PRODID:-//wp-events-plugin.com//7.1.7//EN
BEGIN:VEVENT
UID:562@stockportamateurtheatres.co.uk
DTSTART:20250512T193000Z
DTEND:20250517T220000Z
DTSTAMP:20240919T150121Z
URL:http://www.stockportamateurtheatres.co.uk/events/the-ghost-train/
SUMMARY:The Ghost Train
DESCRIPTION:\n\nSix passengers find themselves stranded late at night in an
  isolated Cornish railway station. Ignoring the ghostly tales and dire war
 nings of the station master\, they decide to stay where they are until mor
 ning - with terrifying consequences.\n\nA revised version of the classic c
 omedy thriller.\n\nThis amateur production of 'The Ghost Train' is present
 ed by arrangement with Samuel French Ltd on behalf of Concord Theatricals 
 www.concordtheatricals.co.uk\n\nTickets\n\n- http://www.playersdramatic.co
 .uk
CATEGORIES:Play
LOCATION:Players Theatre\, Anfield Road\, Cheadle Hulme\, Stockport\, Chesh
 ire\, SK8 5EX\, North West\, United Kingdom
GEO:53.3797897;-2.1977273999999625
X-APPLE-STRUCTURED-LOCATION;VALUE=URI;X-ADDRESS=Anfield Road\, Cheadle Hulm
 e\, Stockport\, Cheshire\, SK8 5EX\, North West\, United Kingdom;X-APPLE-R
 ADIUS=100;X-TITLE=Players Theatre:geo:53.3797897,-2.1977273999999625
END:VEVENT
END:VCALENDAR