BEGIN:VCALENDAR
VERSION:2.0
PRODID:-//wp-events-plugin.com//7.1.7//EN
BEGIN:VEVENT
UID:547@stockportamateurtheatres.co.uk
DTSTART:20241019T000000Z
DTEND:20241026T000000Z
DTSTAMP:20240416T120548Z
URL:http://www.stockportamateurtheatres.co.uk/events/the-haunting-of-hill-
 house/
SUMMARY:The Haunting of Hill House
DESCRIPTION:\n\nThe Haunting of Hill House\n\nby F. Andrew Leslie\n19 – 2
 6 October 2024\n\n\n\n\n\nHill House – old\, bleak and isolated\, it has
  a very dark and troubled past. The only person who goes there now is the 
 housekeeper\, the taciturn Mrs. Dudley. Enter Dr. Montague\, who is keen t
 o investigate any supernatural manifestations that he can find in Hill Hou
 se. He invites three guests\, Theodora\, Eleanor and Luke. The three do no
 t know each other but each has their own reasons for accepting the Doctor
 ’s invitation and it isn’t long before the house starts to reveal its 
 eerie secrets. Dr Montague’s wife and a friend Arthur\, then arrive. The
 y also want to investigate the supernatural but is it wise to stir up the 
 past and will Hill House claim another victim?\n\nTickets\n\n\n- http://ww
 w.chads.co.uk
CATEGORIES:Play
LOCATION:Chads Theatre\, Mellor Road\, Cheadle Hulme\, Stockport\, Cheshire
 \, SK8 5AU\, North West\, United Kingdom
GEO:53.374851;-2.188829
X-APPLE-STRUCTURED-LOCATION;VALUE=URI;X-ADDRESS=Mellor Road\, Cheadle Hulme
 \, Stockport\, Cheshire\, SK8 5AU\, North West\, United Kingdom;X-APPLE-RA
 DIUS=100;X-TITLE=Chads Theatre:geo:53.374851,-2.188829
END:VEVENT
END:VCALENDAR