BEGIN:VCALENDAR
VERSION:2.0
PRODID:-//wp-events-plugin.com//7.1.7//EN
BEGIN:VEVENT
UID:572@stockportamateurtheatres.co.uk
DTSTART:20250517T193000Z
DTEND:20250524T220000Z
DTSTAMP:20240919T153623Z
URL:http://www.stockportamateurtheatres.co.uk/events/the-im-portance-of-be
 ing-earnest/
SUMMARY:The Im portance of Being Earnest
DESCRIPTION:\n\nJack Worthing lives a double life between his idyllic manor
  in the country and his stylish town house in the capital.\n\n\n\n\n\nTo t
 hose who know Jack in the countryside\, he is the epitome of respectfulnes
 s\, devoted to providing a sound upbringing for his ward Cecily and often 
 rushing into London to look after his wayward brother Ernest.\n\n\n\n\n\nT
 o those who Jack entertains in the city\, he is known as Ernest: an indulg
 ent bachelor who loves nothing more than doing nothing\, often accompanied
  by his mischievous friend Algernon. It is a secret to nearly everyone tha
 t Ernest doesn’t actually exist!\n\n\n\n\n\nWhen a marriage proposal set
 s a sequence of ridiculous events in motion\, Jack’s past threatens to c
 atch up with him.\n\n\n\n\n\nOscar Wilde’s trademark wit and masterful s
 torytelling are at the heart of this hilarious comedy of manners about mis
 behaving in a manor.\nTickets\n\n\n- http://www.stockportgarrick.co.uk
CATEGORIES:Play
LOCATION:Stockport Garrick Theatre\, Exchange Street\, Stockport\, Cheshire
 \, SK3 0EJ\, North West\, United Kingdom
GEO:53.40828;-2.161745
X-APPLE-STRUCTURED-LOCATION;VALUE=URI;X-ADDRESS=Exchange Street\, Stockport
 \, Cheshire\, SK3 0EJ\, North West\, United Kingdom;X-APPLE-RADIUS=100;X-T
 ITLE=Stockport Garrick Theatre:geo:53.40828,-2.161745
END:VEVENT
END:VCALENDAR