BEGIN:VCALENDAR
VERSION:2.0
PRODID:-//wp-events-plugin.com//7.1.7//EN
BEGIN:VEVENT
UID:555@stockportamateurtheatres.co.uk
DTSTART:20241202T194500Z
DTEND:20241207T220000Z
DTSTAMP:20240416T175832Z
URL:http://www.stockportamateurtheatres.co.uk/events/the-messiah/
SUMMARY:The Messiah
DESCRIPTION:The Messiah by Patrick Barlow\n2 to 7 December 2024\nEvenings a
 t 7:45pm.\n2:30pm matinee on Saturday 7 December.The funniest and most mag
 ical Nativity you will ever see.A travelling troupe of two actors and an o
 pera singer arrive by donkey to masterfully\, movingly and miraculously en
 act the greatest story ever told.\n\nThe troupe play a cast of thousands i
 n a comedy that conjures up the sublime\, the ridiculous and the truly ang
 elic.\n\n- https://greenroomwilmslow.org.uk/
CATEGORIES:Play
LOCATION:The Green Room Theatre Wilmslow\, Chapel Lane\, Wilmslow\, Cheshir
 e\, SK9 5JH\, North West\, United Kingdom
GEO:53.322514;-2.241101
X-APPLE-STRUCTURED-LOCATION;VALUE=URI;X-ADDRESS=Chapel Lane\, Wilmslow\, Ch
 eshire\, SK9 5JH\, North West\, United Kingdom;X-APPLE-RADIUS=100;X-TITLE=
 The Green Room Theatre Wilmslow:geo:53.322514,-2.241101
END:VEVENT
END:VCALENDAR