BEGIN:VCALENDAR
VERSION:2.0
PRODID:-//wp-events-plugin.com//7.1.7//EN
BEGIN:VEVENT
UID:557@stockportamateurtheatres.co.uk
DTSTART:20250317T193000Z
DTEND:20250322T220000Z
DTSTAMP:20240416T175913Z
URL:http://www.stockportamateurtheatres.co.uk/events/the-murder-room/
SUMMARY:The Murder Room
DESCRIPTION:The Murder Room by Jack Sharkey\n17 to 22 March 2025\nEvenings 
 at 7:45pm.\n2:30pm matinee on Saturday 22 March.\n\nJack Sharkey’s three
 -act British farce\, The Murder Room\, concerns newly-weds Edgar and Mavis
 . Two days before their wedding\, Edgar discovers that Mavis is being unfa
 ithful. After her first attempt to kill him by poison fails\, Mavis resort
 s to shooting him and then returning to her lover. Chaos and complications
  reign when it transpires that Edgar’s body has vanished!- https://green
 roomwilmslow.org.uk/
CATEGORIES:Play
LOCATION:The Green Room Theatre Wilmslow\, Chapel Lane\, Wilmslow\, Cheshir
 e\, SK9 5JH\, North West\, United Kingdom
GEO:53.322514;-2.241101
X-APPLE-STRUCTURED-LOCATION;VALUE=URI;X-ADDRESS=Chapel Lane\, Wilmslow\, Ch
 eshire\, SK9 5JH\, North West\, United Kingdom;X-APPLE-RADIUS=100;X-TITLE=
 The Green Room Theatre Wilmslow:geo:53.322514,-2.241101
END:VEVENT
END:VCALENDAR