BEGIN:VCALENDAR
VERSION:2.0
PRODID:-//wp-events-plugin.com//7.1.7//EN
BEGIN:VEVENT
UID:561@stockportamateurtheatres.co.uk
DTSTART:20250310T193000Z
DTEND:20250315T220000Z
DTSTAMP:20240919T150054Z
URL:http://www.stockportamateurtheatres.co.uk/events/the-thrill-of-love/
SUMMARY:The Thrill of Love
DESCRIPTION:\n\nRuth Ellis\, a 'blonde bombshell' club hostess\, was convic
 ted of shooting her lover in 1955. But in light of the society she lived i
 n and her personal experiences\, Ruth's crime may not be as simple as it f
 irst appears.\n\nAn atmospheric film noir exploration of the life of the l
 ast woman to be hanged in Britain.\n\nThis amateur production of 'The Thri
 ll of Love' is presented by arrangement with Nick Hern Books.\n\nTickets\n
 \n- http://www.playersdramatic.co.uk
CATEGORIES:Play
LOCATION:Players Theatre\, Anfield Road\, Cheadle Hulme\, Stockport\, Chesh
 ire\, SK8 5EX\, North West\, United Kingdom
GEO:53.3797897;-2.1977273999999625
X-APPLE-STRUCTURED-LOCATION;VALUE=URI;X-ADDRESS=Anfield Road\, Cheadle Hulm
 e\, Stockport\, Cheshire\, SK8 5EX\, North West\, United Kingdom;X-APPLE-R
 ADIUS=100;X-TITLE=Players Theatre:geo:53.3797897,-2.1977273999999625
END:VEVENT
END:VCALENDAR