BEGIN:VCALENDAR
VERSION:2.0
PRODID:-//wp-events-plugin.com//7.1.7//EN
BEGIN:VEVENT
UID:556@stockportamateurtheatres.co.uk
DTSTART:20250512T194500Z
DTEND:20250517T220000Z
DTSTAMP:20240416T175932Z
URL:http://www.stockportamateurtheatres.co.uk/events/the-titfield-thunderb
 olt/
SUMMARY:The Titfield Thunderbolt
DESCRIPTION:The Titfield Thunderbolt by Philip Golding\n12 to 17 May 2025\n
 Evenings at 7:45pm.\n2:30pm matinee on Saturday 17 May.\n\nThe branch line
  between Mallingford and Titfield is losing money and British Rail is inte
 nt on closing it down. In desperation the villagers exploit the 1947 Trans
 port Act and decide to take charge and run it themselves – with a train 
 resurrected from a local museum! As well as convincing the railway authori
 ties that they are competent to work the line\, they have to face problems
  from Vernon Crump who is set on providing a competitive bus service. All 
 aboard for a rollicking evening of hilarious nostalgia!- https://greenroom
 wilmslow.org.uk/
CATEGORIES:Play
LOCATION:The Green Room Theatre Wilmslow\, Chapel Lane\, Wilmslow\, Cheshir
 e\, SK9 5JH\, North West\, United Kingdom
GEO:53.322514;-2.241101
X-APPLE-STRUCTURED-LOCATION;VALUE=URI;X-ADDRESS=Chapel Lane\, Wilmslow\, Ch
 eshire\, SK9 5JH\, North West\, United Kingdom;X-APPLE-RADIUS=100;X-TITLE=
 The Green Room Theatre Wilmslow:geo:53.322514,-2.241101
END:VEVENT
END:VCALENDAR