BEGIN:VCALENDAR
VERSION:2.0
PRODID:-//wp-events-plugin.com//7.1.7//EN
BEGIN:VEVENT
UID:550@stockportamateurtheatres.co.uk
DTSTART:20250125T193000Z
DTEND:20250201T220000Z
DTSTAMP:20240416T120646Z
URL:http://www.stockportamateurtheatres.co.uk/events/the-unexpected-guest/
SUMMARY:The Unexpected Guest
DESCRIPTION:\n\n\n\nThe Unexpected Guest\n\nby Agatha Christie\n25 January 
 – 1 February 2025\n\n\n\n\n\nA classic whodunnit from the Queen of Crime
  herself.  The setting is Llangelert House near the Bristol Channel on a 
 foggy November night in the 1950s.  A man crashes his car in the fog\, go
 es to the house for help and finds that the owner\, who is in a wheelchair
 \, has been shot.  His wife stands nearby holding a gun and confessing to
  the murder.  Is she really guilty and can the ‘unexpected guest’ hel
 p her?\n\n\n\n\n\n\n\n\n\n\n\n\n\nThis amateur production of “The Unexpe
 cted Guest” is presented by arrangement with Concord Theatricals Ltd. on
  behalf of Samuel French Ltd. www.concordtheatricals.co.uk\n\nTickets\n\n\
 n\n\n- http://www.chads.co.uk
CATEGORIES:Play
LOCATION:Chads Theatre\, Mellor Road\, Cheadle Hulme\, Stockport\, Cheshire
 \, SK8 5AU\, North West\, United Kingdom
GEO:53.374851;-2.188829
X-APPLE-STRUCTURED-LOCATION;VALUE=URI;X-ADDRESS=Mellor Road\, Cheadle Hulme
 \, Stockport\, Cheshire\, SK8 5AU\, North West\, United Kingdom;X-APPLE-RA
 DIUS=100;X-TITLE=Chads Theatre:geo:53.374851,-2.188829
END:VEVENT
END:VCALENDAR